BEGIN:VCALENDAR
VERSION:2.0
PRODID:-//eventon.com NONSGML v1.0//EN
BEGIN:VEVENT
UID:69e7732d87857
DTSTAMP:20260421T125301
DTSTART:20230311T191500Z
DTEND:20230311T235000Z
LOCATION:Wales Millennium Centre 
SUMMARY:Cardiff\,  Wales
DESCRIPTION: The Queen of the Night - The Magic Flute - W.A. Mozart Conductor: Tomáš Hanus Director: Daisy Evans
END:VEVENT
END:VCALENDAR