BEGIN:VCALENDAR
VERSION:2.0
PRODID:-//eventon.com NONSGML v1.0//EN
BEGIN:VEVENT
UID:69e7381b0fbbb
DTSTAMP:20260421T084059
DTSTART:20230405T190000Z
DTEND:20230405T235000Z
LOCATION:Bob Boas House 
SUMMARY:London\,  England
DESCRIPTION: Recital with Roger Vignoles. Repertoire to include Duparc\,  Clara Schumann\,  Elgar and Richard Strauss.
END:VEVENT
END:VCALENDAR