BEGIN:VCALENDAR
VERSION:2.0
PRODID:-//eventon.com NONSGML v1.0//EN
BEGIN:VEVENT
UID:69e4fc47bb657
DTSTAMP:20260419T160111
DTSTART:20231104T190000Z
DTEND:20231104T235000Z
LOCATION:Opernhaus Leipzig 
SUMMARY:Leipzig\,  Germany
DESCRIPTION: Die Königin der Nacht - Die Zauberflöte - Mozart Conductor: TBA Director: Matthias Davids
END:VEVENT
END:VCALENDAR