BEGIN:VCALENDAR
VERSION:2.0
PRODID:-//eventon.com NONSGML v1.0//EN
BEGIN:VEVENT
UID:69e4e5e2ea6af
DTSTAMP:20260419T142538
DTSTART:20231112T170000Z
DTEND:20231112T235000Z
LOCATION:Opernhaus Leipzig 
SUMMARY:Leipzig\,  Germany
DESCRIPTION: Die Königin der Nacht - Die Zauberflöte - Mozart Conductor: Jonathan Darlington Director: Matthias Davids
END:VEVENT
END:VCALENDAR