BEGIN:VCALENDAR
VERSION:2.0
PRODID:-//eventon.com NONSGML v1.0//EN
BEGIN:VEVENT
UID:69e4e54f684b9
DTSTAMP:20260419T142311
DTSTART:20231124T193000Z
DTEND:20231124T235000Z
LOCATION:Opernhaus Leipzig 
SUMMARY:Leipzig\,  Germany
DESCRIPTION: Die Königin der Nacht - Die Zauberflöte - Mozart Conductor: TBA Director: Matthias Davids
END:VEVENT
END:VCALENDAR