BEGIN:VCALENDAR
VERSION:2.0
PRODID:-//eventon.com NONSGML v1.0//EN
BEGIN:VEVENT
UID:69e4e5b3e6d61
DTSTAMP:20260419T142451
DTSTART:20231225T190000Z
DTEND:20231225T235000Z
LOCATION:Opernhaus Leipzig 
SUMMARY:Leipzig\,  Germany
DESCRIPTION: Die Königin der Nacht - Die Zauberflöte - Mozart Conductor: Christoph Gedschold Director: Matthias Davids
END:VEVENT
END:VCALENDAR