BEGIN:VCALENDAR
VERSION:2.0
PRODID:-//eventon.com NONSGML v1.0//EN
BEGIN:VEVENT
UID:69e4e5fdc84ca
DTSTAMP:20260419T142605
DTSTART:20231111T190000Z
DTEND:20231111T235000Z
LOCATION:Opernhaus Leipzig 
SUMMARY:Leipzig\,  Germany
DESCRIPTION: Die Königin der Nacht - Die Zauberflöte - Mozart Conductor: Jonathan Darlington Director: Matthias Davids
END:VEVENT
END:VCALENDAR