BEGIN:VCALENDAR
VERSION:2.0
PRODID:-//eventon.com NONSGML v1.0//EN
BEGIN:VEVENT
UID:69e7386859a31
DTSTAMP:20260421T084216
DTSTART:20230610T000000Z
DTEND:20230910T235900Z
LOCATION:
SUMMARY:June 10th – September 10th <br>BABY PAUSE
DESCRIPTION: June 10th – September 10th: Baby Pause
END:VEVENT
END:VCALENDAR