BEGIN:VCALENDAR
VERSION:2.0
PRODID:-//eventon.com NONSGML v1.0//EN
BEGIN:VEVENT
UID:69e4e6a425bfc
DTSTAMP:20260419T142852
DTSTART:20231213T190000Z
DTEND:20231213T235000Z
LOCATION:Semperoper Dresden\,  Germany 
SUMMARY:Dresden\,  Germany
DESCRIPTION: Die Königin der Nacht - Die Zauberflöte - Mozart Conductor: Evan Rogister Director: Josef. E. Köpplinger
END:VEVENT
END:VCALENDAR