BEGIN:VCALENDAR
VERSION:2.0
PRODID:-//eventon.com NONSGML v1.0//EN
BEGIN:VEVENT
UID:69e4fc0f98cf1
DTSTAMP:20260419T160015
DTSTART:20240608T171500Z
DTEND:20240608T235000Z
LOCATION:West Horsley Place 
SUMMARY:West Horsley Place\,  Surrey\,  U.K
DESCRIPTION: Marie - La fille du régiment - G. Donizetti Conductor: Claire Levacher Director: John Doyle
END:VEVENT
END:VCALENDAR