BEGIN:VCALENDAR
VERSION:2.0
PRODID:-//eventon.com NONSGML v1.0//EN
BEGIN:VEVENT
UID:69e4e5b3e86c5
DTSTAMP:20260419T142451
DTSTART:20240613T174500Z
DTEND:20240613T235000Z
LOCATION:West Horsley Place 
SUMMARY:West Horsley Place\,  Surrey\,  U.K
DESCRIPTION: Marie - La fille du régiment - G. Donizetti Conductor: Claire Levacher Director: John Doyle
END:VEVENT
END:VCALENDAR