BEGIN:VCALENDAR
VERSION:2.0
PRODID:-//eventon.com NONSGML v1.0//EN
BEGIN:VEVENT
UID:69e4e63bcf04d
DTSTAMP:20260419T142707
DTSTART:20240619T174500Z
DTEND:20240619T235000Z
LOCATION:West Horsley Place 
SUMMARY:West Horsley Place\,  Surrey\,  U.K
DESCRIPTION: Marie - La fille du régiment - G. Donizetti Conductor: Claire Levacher Director: John Doyle
END:VEVENT
END:VCALENDAR