BEGIN:VCALENDAR
VERSION:2.0
PRODID:-//eventon.com NONSGML v1.0//EN
BEGIN:VEVENT
UID:69e4e5fdc6387
DTSTAMP:20260419T142605
DTSTART:20240420T190000Z
DTEND:20240420T235000Z
LOCATION:Semperoper Dresden\,  Germany 
SUMMARY:Dresden\,  Germany
DESCRIPTION: Die Königin der Nacht - Die Zauberflöte - Mozart Conductor: Christoph Gedschold Director: Josef. E. Köpplinger
END:VEVENT
END:VCALENDAR