BEGIN:VCALENDAR
VERSION:2.0
PRODID:-//eventon.com NONSGML v1.0//EN
BEGIN:VEVENT
UID:69e4e654eb279
DTSTAMP:20260419T142732
DTSTART:20240328T100000Z
DTEND:20240328T235000Z
LOCATION:Royal Opera House\,  Covent Garden 
SUMMARY:London\,  UK
DESCRIPTION: ‘Die Königin der Nacht’ - Die Zauberflöte - W.A. Mozart ROH Education - Create and Sing.
END:VEVENT
END:VCALENDAR