BEGIN:VCALENDAR
VERSION:2.0
PRODID:-//eventon.com NONSGML v1.0//EN
BEGIN:VEVENT
UID:69e4fbd40026c
DTSTAMP:20260419T155916
DTSTART:20240428T183000Z
DTEND:20240428T235000Z
LOCATION:Blackheath Halls 
SUMMARY:London\,  UK
DESCRIPTION: Opera Gala Night 2024 Repertoire to include excerpts from ‘Norma’\,  ‘Candide’\,  ‘La traviata’ and others.
END:VEVENT
END:VCALENDAR