BEGIN:VCALENDAR
VERSION:2.0
PRODID:-//eventon.com NONSGML v1.0//EN
BEGIN:VEVENT
UID:69e4e69937067
DTSTAMP:20260419T142841
DTSTART:20240616T140000Z
DTEND:20240616T235000Z
LOCATION:Semperoper Dresden\,  Germany 
SUMMARY:Dresden\,  Germany
DESCRIPTION: The Queen of the Night - Die Zauberflöte Conductor: Gaetano d’Espinosa Director: Josef E. Köpplinger
END:VEVENT
END:VCALENDAR