BEGIN:VCALENDAR
VERSION:2.0
PRODID:-//eventon.com NONSGML v1.0//EN
BEGIN:VEVENT
UID:69e7493feb603
DTSTAMP:20260421T095407
DTSTART:20240913T190000Z
DTEND:20240913T235000Z
LOCATION:Semperoper Dresden\,  Germany 
SUMMARY:Dresden\,  Germany
DESCRIPTION: The Queen of the Night - Die Zauberflöte Conductor: Giulio Cilona Director: Josef E. Köpplinger
END:VEVENT
END:VCALENDAR