BEGIN:VCALENDAR
VERSION:2.0
PRODID:-//eventon.com NONSGML v1.0//EN
BEGIN:VEVENT
UID:69e75db42e76b
DTSTAMP:20260421T112124
DTSTART:20240922T140000Z
DTEND:20240922T235000Z
LOCATION:Semperoper Dresden\,  Germany 
SUMMARY:Dresden\,  Germany
DESCRIPTION: The Queen of the Night - Die Zauberflöte Conductor: Giulio Cilona Director: Josef E. Köpplinger
END:VEVENT
END:VCALENDAR