BEGIN:VCALENDAR
VERSION:2.0
PRODID:-//eventon.com NONSGML v1.0//EN
BEGIN:VEVENT
UID:69e7496fe5d86
DTSTAMP:20260421T095455
DTSTART:20241128T190000Z
DTEND:20241128T235000Z
LOCATION:Semperoper Dresden\,  Germany 
SUMMARY:Dresden\,  Germany
DESCRIPTION: The Queen of the Night - Die Zauberflöte Conductor: Katharina Müllner Director: Josef E. Köpplinger
END:VEVENT
END:VCALENDAR