BEGIN:VCALENDAR
VERSION:2.0
PRODID:-//eventon.com NONSGML v1.0//EN
BEGIN:VEVENT
UID:69e749511a5b4
DTSTAMP:20260421T095425
DTSTART:20240927T130000Z
DTEND:20240927T235000Z
LOCATION:Baku State Philharmonic Hall 
SUMMARY:Baku\,  Azerbaijan
DESCRIPTION: Soprano soloist: Les Illuminations\,  Britten Conductor: Dmitry Sitkovetsky Baku Chamber Orchestra
END:VEVENT
END:VCALENDAR