BEGIN:VCALENDAR
VERSION:2.0
PRODID:-//eventon.com NONSGML v1.0//EN
BEGIN:VEVENT
UID:69e75d2f76da3
DTSTAMP:20260421T111911
DTSTART:20250710T174500Z
DTEND:20250710T235000Z
LOCATION:West Horsley Place 
SUMMARY:West Horsley Place\,  Surrey\,  UK
DESCRIPTION: Mumtaz - Taj Mahal by Nishat Khan Conductor - George Jackson Director - Stephen Medcalfe
END:VEVENT
END:VCALENDAR