BEGIN:VCALENDAR
VERSION:2.0
PRODID:-//eventon.com NONSGML v1.0//EN
BEGIN:VEVENT
UID:69e75d572e28e
DTSTAMP:20260421T111951
DTSTART:20250712T171500Z
DTEND:20250712T235000Z
LOCATION:West Horsley Place 
SUMMARY:West Horsley Place\,  Surrey\,  UK
DESCRIPTION: Mumtaz - Taj Mahal by Nishat Khan Conductor - George Jackson Director - Stephen Medcalfe
END:VEVENT
END:VCALENDAR