BEGIN:VCALENDAR
VERSION:2.0
PRODID:-//eventon.com NONSGML v1.0//EN
BEGIN:VEVENT
UID:69e748f388986
DTSTAMP:20260421T095251
DTSTART:20250208T180000Z
DTEND:20250208T235000Z
LOCATION:St Matthias Church\,  Stoke Newington 
SUMMARY:London\,  UK
DESCRIPTION: A Chorus for Emma: An evening of music in celebration and memory of the late mezzo-soprano Emma Kerr\,  featuring repertoire from Mozart\,  Verdi\,  Bizet and more.
END:VEVENT
END:VCALENDAR