BEGIN:VCALENDAR
VERSION:2.0
PRODID:-//eventon.com NONSGML v1.0//EN
BEGIN:VEVENT
UID:69e74917a3ef1
DTSTAMP:20260421T095327
DTSTART:20250308T190000Z
DTEND:20250308T235000Z
LOCATION:Chappelle Sainte-Ursule 
SUMMARY:Luçon\,  France
DESCRIPTION: Performance of Julia’s new arrangements and orchestrations of Rachmaninov songs with the New European String Orchestra\,  featuring Dmitry Sitkovetsky as conductor and violin soloist. Other repertoire includes Bach and Mendelssohn.
END:VEVENT
END:VCALENDAR