BEGIN:VCALENDAR
VERSION:2.0
PRODID:-//eventon.com NONSGML v1.0//EN
BEGIN:VEVENT
UID:69e75d90cad4e
DTSTAMP:20260421T112048
DTSTART:20250401T140000Z
DTEND:20250401T235000Z
LOCATION:Royal Ballet and Opera 
SUMMARY:London\,  UK
DESCRIPTION: The Queen of the Night - The Magic Flute - W. A. Mozart Royal Ballet and Opera Create and Sing Performance Conductor: Richard Hetherington
END:VEVENT
END:VCALENDAR