BEGIN:VCALENDAR
VERSION:2.0
PRODID:-//eventon.com NONSGML v1.0//EN
BEGIN:VEVENT
UID:69e7491784b7f
DTSTAMP:20260421T095327
DTSTART:20250425T190000Z
DTEND:20250425T235000Z
LOCATION:Opernhaus Leipzig 
SUMMARY:Leipzig\,  Germany
DESCRIPTION: Die Königin der Nacht - Die Zauberflöte- W.A. Mozart Director: Matthias Davids Conductor: Yura Yang
END:VEVENT
END:VCALENDAR