BEGIN:VCALENDAR
VERSION:2.0
PRODID:-//eventon.com NONSGML v1.0//EN
BEGIN:VEVENT
UID:69e749700e04d
DTSTAMP:20260421T095456
DTSTART:20250613T193000Z
DTEND:20250613T235000Z
LOCATION:
SUMMARY:London\,  UK
DESCRIPTION: Soprano solo\,  Seven Romances by Alexander Blok - D. Shostakovich Marryat Players Chamber Music Festival
END:VEVENT
END:VCALENDAR