BEGIN:VCALENDAR
VERSION:2.0
PRODID:-//eventon.com NONSGML v1.0//EN
BEGIN:VEVENT
UID:69e736e087eba
DTSTAMP:20260421T083544
DTSTART:20191013T150000Z
DTEND:20191013T235000Z
LOCATION:Dusseldorf\,  Germany 
SUMMARY:Düsseldorf\,  Germany
DESCRIPTION: Ravel: L'enfant et les sortilèges Le Feu/La Princesse/Le Rossignol​
END:VEVENT
END:VCALENDAR