BEGIN:VCALENDAR
VERSION:2.0
PRODID:-//eventon.com NONSGML v1.0//EN
BEGIN:VEVENT
UID:69e73ab34bae7
DTSTAMP:20260421T085203
DTSTART:20191018T200000Z
DTEND:20191018T235000Z
LOCATION:Britten Studio\,  Snape Maltings\,  UK 
SUMMARY:Snape Maltings\,  UK
DESCRIPTION: Concert with Roger Vignoles Shostakovich Britten
END:VEVENT
END:VCALENDAR