BEGIN:VCALENDAR
VERSION:2.0
PRODID:-//eventon.com NONSGML v1.0//EN
BEGIN:VEVENT
UID:69e736d175cf6
DTSTAMP:20260421T083529
DTSTART:20191019T200000Z
DTEND:20191019T235000Z
LOCATION:Britten Studio\,  Snape Maltings\,  UK 
SUMMARY:Snape Maltings\,  UK
DESCRIPTION: Concert with Roger Vignoles Prokofiev Rachmaninov
END:VEVENT
END:VCALENDAR