BEGIN:VCALENDAR
VERSION:2.0
PRODID:-//eventon.com NONSGML v1.0//EN
BEGIN:VEVENT
UID:69e73e2e9f626
DTSTAMP:20260421T090654
DTSTART:20191115T180000Z
DTEND:20191115T235000Z
LOCATION:Deutsche Oper am Rhein\,  Duisburg\,  Germany 
SUMMARY:Duisburg\,  Germany
DESCRIPTION: Waldvogel Wagner: Siegfried\,  Der Ring des Nibelungen
END:VEVENT
END:VCALENDAR