BEGIN:VCALENDAR
VERSION:2.0
PRODID:-//eventon.com NONSGML v1.0//EN
BEGIN:VEVENT
UID:69e73670d2db5
DTSTAMP:20260421T083352
DTSTART:20191214T193000Z
DTEND:20191214T235000Z
LOCATION:Opernhaus Düsseldorf\,  Deutsche Oper am Rhein\,  D​üsseldorf\,  Germany 
SUMMARY:D​üsseldorf\,  Germany
DESCRIPTION: Ravel: L'enfant et les sortilèges Le Feu/La Princesse/Le Rossignol​
END:VEVENT
END:VCALENDAR