BEGIN:VCALENDAR
VERSION:2.0
PRODID:-//eventon.com NONSGML v1.0//EN
BEGIN:VEVENT
UID:69e736d1e60b0
DTSTAMP:20260421T083529
DTSTART:20200515T190000Z
DTEND:20200515T200000Z
LOCATION:Semperoper Dresden\,  Germany 
SUMMARY:Dresden\,  Germany
DESCRIPTION: Mozart: Die Zauberflöte The Queen of the Night
END:VEVENT
END:VCALENDAR