BEGIN:VCALENDAR
VERSION:2.0
PRODID:-//eventon.com NONSGML v1.0//EN
BEGIN:VEVENT
UID:69e7379b828a5
DTSTAMP:20260421T083851
DTSTART:20200620T190000Z
DTEND:20200620T200000Z
LOCATION:Semperoper Dresden\,  Germany 
SUMMARY:Dresden\,  Germany
DESCRIPTION: Mozart: Die Zauberflöte The Queen of the Night
END:VEVENT
END:VCALENDAR