BEGIN:VCALENDAR
VERSION:2.0
PRODID:-//eventon.com NONSGML v1.0//EN
BEGIN:VEVENT
UID:69e737bedb86d
DTSTAMP:20260421T083926
DTSTART:20200223T190000Z
DTEND:20200223T235000Z
LOCATION:Wigmore Hall\,  London\,  UK 
SUMMARY:London\,  UK
DESCRIPTION: Recital with Roger Vignoles Britten Rachmaninov Debussy R. Strauss
END:VEVENT
END:VCALENDAR