BEGIN:VCALENDAR
VERSION:2.0
PRODID:-//eventon.com NONSGML v1.0//EN
BEGIN:VEVENT
UID:69e739296e5bc
DTSTAMP:20260421T084529
DTSTART:20200512T193000Z
DTEND:20200512T235000Z
LOCATION:Deutsche Oper am Rhein\,  Duisburg\,  Germany 
SUMMARY:D​uisburg\,  Germany
DESCRIPTION: Ravel: L'enfant et les sortilèges Le Feu/La Princesse/Le Rossignol​
END:VEVENT
END:VCALENDAR