BEGIN:VCALENDAR
VERSION:2.0
PRODID:-//eventon.com NONSGML v1.0//EN
BEGIN:VEVENT
UID:69e7375acdca5
DTSTAMP:20260421T083746
DTSTART:20200522T193000Z
DTEND:20200522T235000Z
LOCATION:Deutsche Oper am Rhein\,  Duisburg\,  Germany 
SUMMARY:Duisburg\,  Germany
DESCRIPTION: Ravel: L'enfant et les sortilège Le Feu/La Princesse/Le Rossignol​
END:VEVENT
END:VCALENDAR