BEGIN:VCALENDAR
VERSION:2.0
PRODID:-//eventon.com NONSGML v1.0//EN
BEGIN:VEVENT
UID:69e7397be9383
DTSTAMP:20260421T084651
DTSTART:20190629T200000Z
DTEND:20190629T235000Z
LOCATION:Grand Opera House\,  Belfast\,  UK 
SUMMARY:Belfast\,  UK
DESCRIPTION: Mozart: Die Zauberflöte The Queen of the Night Scottish Opera
END:VEVENT
END:VCALENDAR