BEGIN:VCALENDAR
VERSION:2.0
PRODID:-//eventon.com NONSGML v1.0//EN
BEGIN:VEVENT
UID:69e737d243c24
DTSTAMP:20260421T083946
DTSTART:20170902T193000Z
DTEND:20170902T235000Z
LOCATION:Staatsoper Hannover\,  Germany 
SUMMARY:Hannover\,  Germany
DESCRIPTION: Der Junge Lord Hans Werner Henze Ida
END:VEVENT
END:VCALENDAR