BEGIN:VCALENDAR
VERSION:2.0
PRODID:-//eventon.com NONSGML v1.0//EN
BEGIN:VEVENT
UID:69e737be60954
DTSTAMP:20260421T083926
DTSTART:20170906T130000Z
DTEND:20170906T235000Z
LOCATION:Wigmore Hall\,  London 
SUMMARY:London\,  UK
DESCRIPTION: Lecture/Recital with Iain Burnside &nbsp; Rachmaninov Tchaikovsky Prokofiev
END:VEVENT
END:VCALENDAR