BEGIN:VCALENDAR
VERSION:2.0
PRODID:-//eventon.com NONSGML v1.0//EN
BEGIN:VEVENT
UID:69e7381b9cdb5
DTSTAMP:20260421T084059
DTSTART:20170909T193000Z
DTEND:20170909T235000Z
LOCATION:Staatsoper Hannover\,  Germany 
SUMMARY:Hannover\,  Germany
DESCRIPTION: Der Junge Lord\,  Hans Werner Henze Ida
END:VEVENT
END:VCALENDAR