BEGIN:VCALENDAR
VERSION:2.0
PRODID:-//eventon.com NONSGML v1.0//EN
BEGIN:VEVENT
UID:69e7732d8885f
DTSTAMP:20260421T125301
DTSTART:20170917T193000Z
DTEND:20170917T203000Z
LOCATION:Staatsoper Hannover\,  Germany 
SUMMARY:Hannover\,  Germany
DESCRIPTION: Der Junge Lord\,  Hans Werner Henze Ida
END:VEVENT
END:VCALENDAR