BEGIN:VCALENDAR
VERSION:2.0
PRODID:-//eventon.com NONSGML v1.0//EN
BEGIN:VEVENT
UID:69e736d131841
DTSTAMP:20260421T083529
DTSTART:20170924T193000Z
DTEND:20170924T203000Z
LOCATION:Staatsoper Hannover\,  Germany 
SUMMARY:Hannover\,  Germany
DESCRIPTION: Der Junge Lord\,  Hans Werner Henze Ida
END:VEVENT
END:VCALENDAR