BEGIN:VCALENDAR
VERSION:2.0
PRODID:-//eventon.com NONSGML v1.0//EN
BEGIN:VEVENT
UID:69e7379c073d4
DTSTAMP:20260421T083852
DTSTART:20171004T193000Z
DTEND:20171004T203000Z
LOCATION:Staatsoper Hannover\,  Germany 
SUMMARY:Hannover\,  Germany
DESCRIPTION: Der Junge Lord\,  Hans Werner Henze Ida
END:VEVENT
END:VCALENDAR