BEGIN:VCALENDAR
VERSION:2.0
PRODID:-//eventon.com NONSGML v1.0//EN
BEGIN:VEVENT
UID:69e7379a3e228
DTSTAMP:20260421T083850
DTSTART:20171019T193000Z
DTEND:20171019T203000Z
LOCATION:Staatsoper Hannover\,  Germany 
SUMMARY:Hannover\,  Germany
DESCRIPTION: Der Junge Lord\,  Hans Werner Henze Ida
END:VEVENT
END:VCALENDAR