BEGIN:VCALENDAR
VERSION:2.0
PRODID:-//eventon.com NONSGML v1.0//EN
BEGIN:VEVENT
UID:69e7372218e71
DTSTAMP:20260421T083650
DTSTART:20170916T190000Z
DTEND:20170916T235000Z
LOCATION:Wells Cedar Hall\,  UK 
SUMMARY:Wells\,  UK
DESCRIPTION: Recital with Alexander Melnikov (as part of the BBC Radio 3 Big Chamber Weekend) &nbsp; Rachmaninov Prokofiev
END:VEVENT
END:VCALENDAR