BEGIN:VCALENDAR
VERSION:2.0
PRODID:-//eventon.com NONSGML v1.0//EN
BEGIN:VEVENT
UID:69e736c70d08c
DTSTAMP:20260421T083519
DTSTART:20180130T193000Z
DTEND:20180130T203000Z
LOCATION:Landestheater Linz\,  Austria 
SUMMARY:Linz\,  Austria
DESCRIPTION: Rigoletto\,  Verdi Gilda
END:VEVENT
END:VCALENDAR