BEGIN:VCALENDAR
VERSION:2.0
PRODID:-//eventon.com NONSGML v1.0//EN
BEGIN:VEVENT
UID:69e736c8892e4
DTSTAMP:20260421T083520
DTSTART:20180314T193000Z
DTEND:20180314T203000Z
LOCATION:Landestheater Linz\,  Austria 
SUMMARY:Linz\,  Austria
DESCRIPTION: Rigoletto\,  Verdi Gilda
END:VEVENT
END:VCALENDAR