BEGIN:VCALENDAR
VERSION:2.0
PRODID:-//eventon.com NONSGML v1.0//EN
BEGIN:VEVENT
UID:69e736715b81a
DTSTAMP:20260421T083353
DTSTART:20171107T193000Z
DTEND:20171107T203000Z
LOCATION:Landestheater Linz\,  Austria 
SUMMARY:Linz\,  Austria
DESCRIPTION: Rigoletto\,  Verdi Gilda
END:VEVENT
END:VCALENDAR