BEGIN:VCALENDAR
VERSION:2.0
PRODID:-//eventon.com NONSGML v1.0//EN
BEGIN:VEVENT
UID:69e736b4a95af
DTSTAMP:20260421T083500
DTSTART:20171128T193000Z
DTEND:20171128T203000Z
LOCATION:Landestheater Linz\,  Austria 
SUMMARY:Linz\,  Austria
DESCRIPTION: Rigoletto\,  Verdi Gilda
END:VEVENT
END:VCALENDAR